BEGIN:VCALENDAR
VERSION:2.0
PRODID:-//Door Eensgezindheid - ECPv6.15.20//NONSGML v1.0//EN
CALSCALE:GREGORIAN
METHOD:PUBLISH
X-ORIGINAL-URL:https://dooreensgezindheid.nl
X-WR-CALDESC:Evenementen voor Door Eensgezindheid
REFRESH-INTERVAL;VALUE=DURATION:PT1H
X-Robots-Tag:noindex
X-PUBLISHED-TTL:PT1H
BEGIN:VTIMEZONE
TZID:UTC
BEGIN:STANDARD
TZOFFSETFROM:+0000
TZOFFSETTO:+0000
TZNAME:UTC
DTSTART:20230101T000000
END:STANDARD
END:VTIMEZONE
BEGIN:VEVENT
DTSTART;TZID=UTC:20250614T193000
DTEND;TZID=UTC:20250614T220000
DTSTAMP:20260421T115712
CREATED:20241122T095016Z
LAST-MODIFIED:20241122T095016Z
UID:64-1749929400-1749938400@dooreensgezindheid.nl
SUMMARY:Lingewaalconcert
DESCRIPTION:Jaarlijks concert van de vier muziekverenigingen uit de voormalige gemeente Lingewaal\, met een roulerende organiserende vereniging.
URL:https://dooreensgezindheid.nl/agenda/lingewaalconcert/
CATEGORIES:Fanfare
END:VEVENT
BEGIN:VEVENT
DTSTART;TZID=UTC:20250504T190000
DTEND;TZID=UTC:20250504T203000
DTSTAMP:20260421T115712
CREATED:20241122T094419Z
LAST-MODIFIED:20241122T094741Z
UID:58-1746385200-1746390600@dooreensgezindheid.nl
SUMMARY:Dodenherdenking
DESCRIPTION:
URL:https://dooreensgezindheid.nl/agenda/dodenherdenking/
LOCATION:Hervormde Kerk Heukelum\, Torenstraat 1\, Heukelum\, Netherlands
CATEGORIES:Fanfare
END:VEVENT
BEGIN:VEVENT
DTSTART;TZID=UTC:20250427T000000
DTEND;TZID=UTC:20250427T235959
DTSTAMP:20260421T115712
CREATED:20241122T094150Z
LAST-MODIFIED:20241122T094645Z
UID:56-1745712000-1745798399@dooreensgezindheid.nl
SUMMARY:Koningsdag
DESCRIPTION:
URL:https://dooreensgezindheid.nl/agenda/koningsdag/
LOCATION:Dorpshuis De Krakeling\, Prins Bernhardstraat 1\, Heukelum\, Netherlands
CATEGORIES:Fanfare
END:VEVENT
BEGIN:VEVENT
DTSTART;TZID=UTC:20250405T193000
DTEND;TZID=UTC:20250405T220000
DTSTAMP:20260421T115712
CREATED:20241122T094905Z
LAST-MODIFIED:20250405T061421Z
UID:62-1743881400-1743890400@dooreensgezindheid.nl
SUMMARY:Jaarconcert
DESCRIPTION:Op 5 april houden wij ons Jaarconcert\, dit jaar in samenwerking met gezelligheidskoor “Gaan zoals het Gaat”.
URL:https://dooreensgezindheid.nl/agenda/jaarconcert/
LOCATION:Dorpshuis De Krakeling\, Prins Bernhardstraat 1\, Heukelum\, Netherlands
CATEGORIES:Fanfare
END:VEVENT
BEGIN:VEVENT
DTSTART;TZID=UTC:20241222T160000
DTEND;TZID=UTC:20241222T173000
DTSTAMP:20260421T115712
CREATED:20241121T133725Z
LAST-MODIFIED:20241202T150207Z
UID:15-1734883200-1734888600@dooreensgezindheid.nl
SUMMARY:Kerstconcert
DESCRIPTION:
URL:https://dooreensgezindheid.nl/agenda/kerstconcert/
LOCATION:Hervormde Kerk Heukelum\, Torenstraat 1\, Heukelum\, Netherlands
CATEGORIES:Fanfare
END:VEVENT
BEGIN:VEVENT
DTSTART;TZID=UTC:20241219T190000
DTEND;TZID=UTC:20241219T193000
DTSTAMP:20260421T115712
CREATED:20241121T175326Z
LAST-MODIFIED:20241122T094503Z
UID:52-1734634800-1734636600@dooreensgezindheid.nl
SUMMARY:Presentatie Workshop
DESCRIPTION:Leerlingen van groep 6 van obs De Rietput mogen laten zijn wat ze tijdens de workshops hebben geleerd. Iedereen is welkom in de gymzaal van de Brede School.
URL:https://dooreensgezindheid.nl/agenda/presentatie-workshop/
LOCATION:Brede School Heukelum\, Leijenburgplein 2a\, Heukelum\, Netherlands
CATEGORIES:Fanfare
END:VEVENT
END:VCALENDAR